BEGIN:VCALENDAR
VERSION:2.0
PRODID:-//Leathermen of Switzerland - ECPv6.15.18//NONSGML v1.0//EN
CALSCALE:GREGORIAN
METHOD:PUBLISH
X-ORIGINAL-URL:https://leathermen.ch/en/
X-WR-CALDESC:Events for Leathermen of Switzerland
REFRESH-INTERVAL;VALUE=DURATION:PT1H
X-Robots-Tag:noindex
X-PUBLISHED-TTL:PT1H
BEGIN:VTIMEZONE
TZID:Europe/Berlin
BEGIN:DAYLIGHT
TZOFFSETFROM:+0100
TZOFFSETTO:+0200
TZNAME:CEST
DTSTART:20250330T010000
END:DAYLIGHT
BEGIN:STANDARD
TZOFFSETFROM:+0200
TZOFFSETTO:+0100
TZNAME:CET
DTSTART:20251026T010000
END:STANDARD
BEGIN:DAYLIGHT
TZOFFSETFROM:+0100
TZOFFSETTO:+0200
TZNAME:CEST
DTSTART:20260329T010000
END:DAYLIGHT
BEGIN:STANDARD
TZOFFSETFROM:+0200
TZOFFSETTO:+0100
TZNAME:CET
DTSTART:20261025T010000
END:STANDARD
BEGIN:DAYLIGHT
TZOFFSETFROM:+0100
TZOFFSETTO:+0200
TZNAME:CEST
DTSTART:20270328T010000
END:DAYLIGHT
BEGIN:STANDARD
TZOFFSETFROM:+0200
TZOFFSETTO:+0100
TZNAME:CET
DTSTART:20271031T010000
END:STANDARD
END:VTIMEZONE
BEGIN:VEVENT
DTSTART;TZID=Europe/Berlin:20260424T180000
DTEND;TZID=Europe/Berlin:20260424T193000
DTSTAMP:20260424T173445
CREATED:20260227T010022Z
LAST-MODIFIED:20260227T010022Z
UID:10000267-1777053600-1777059000@leathermen.ch
SUMMARY:Gear Social Bern: Dinner (2026-04)
DESCRIPTION:
URL:https://leathermen.ch/en/event/2026-04-24-gear-social-bern-dinner/
LOCATION:Bern: Restaurant Anker\, Kornhausplatz 16\, Bern\, 3011\, Switzerland
CATEGORIES:Food
GEO:46.9484691;7.4471767
X-APPLE-STRUCTURED-LOCATION;VALUE=URI;X-ADDRESS=Bern: Restaurant Anker Kornhausplatz 16 Bern 3011 Switzerland;X-APPLE-RADIUS=500;X-TITLE=Kornhausplatz 16:geo:7.4471767,46.9484691
END:VEVENT
BEGIN:VEVENT
DTSTART;TZID=Europe/Berlin:20260522T180000
DTEND;TZID=Europe/Berlin:20260522T193000
DTSTAMP:20260424T173445
CREATED:20260227T010231Z
LAST-MODIFIED:20260227T010231Z
UID:10000269-1779472800-1779478200@leathermen.ch
SUMMARY:Gear Social Bern: Dinner (2026-05)
DESCRIPTION:
URL:https://leathermen.ch/en/event/2026-05-22-gear-social-bern-dinner/
LOCATION:Bern: Restaurant Anker\, Kornhausplatz 16\, Bern\, 3011\, Switzerland
CATEGORIES:Food
GEO:46.9484691;7.4471767
X-APPLE-STRUCTURED-LOCATION;VALUE=URI;X-ADDRESS=Bern: Restaurant Anker Kornhausplatz 16 Bern 3011 Switzerland;X-APPLE-RADIUS=500;X-TITLE=Kornhausplatz 16:geo:7.4471767,46.9484691
END:VEVENT
BEGIN:VEVENT
DTSTART;TZID=Europe/Berlin:20260626T180000
DTEND;TZID=Europe/Berlin:20260626T193000
DTSTAMP:20260424T173445
CREATED:20260227T010432Z
LAST-MODIFIED:20260227T010432Z
UID:10000272-1782496800-1782502200@leathermen.ch
SUMMARY:Gear Social Bern: Dinner (2026-06)
DESCRIPTION:
URL:https://leathermen.ch/en/event/2026-06-26-gear-social-bern-dinner/
LOCATION:Bern: Restaurant Anker\, Kornhausplatz 16\, Bern\, 3011\, Switzerland
CATEGORIES:Food
GEO:46.9484691;7.4471767
X-APPLE-STRUCTURED-LOCATION;VALUE=URI;X-ADDRESS=Bern: Restaurant Anker Kornhausplatz 16 Bern 3011 Switzerland;X-APPLE-RADIUS=500;X-TITLE=Kornhausplatz 16:geo:7.4471767,46.9484691
END:VEVENT
END:VCALENDAR